BEGIN:VCALENDAR
VERSION:2.0
PRODID:-// - ECPv6.15.20//NONSGML v1.0//EN
CALSCALE:GREGORIAN
METHOD:PUBLISH
X-ORIGINAL-URL:https://borderrac.org
X-WR-CALDESC:Events for 
REFRESH-INTERVAL;VALUE=DURATION:PT1H
X-Robots-Tag:noindex
X-PUBLISHED-TTL:PT1H
BEGIN:VTIMEZONE
TZID:America/Denver
BEGIN:DAYLIGHT
TZOFFSETFROM:-0700
TZOFFSETTO:-0600
TZNAME:MDT
DTSTART:20250309T090000
END:DAYLIGHT
BEGIN:STANDARD
TZOFFSETFROM:-0600
TZOFFSETTO:-0700
TZNAME:MST
DTSTART:20251102T080000
END:STANDARD
BEGIN:DAYLIGHT
TZOFFSETFROM:-0700
TZOFFSETTO:-0600
TZNAME:MDT
DTSTART:20260308T090000
END:DAYLIGHT
BEGIN:STANDARD
TZOFFSETFROM:-0600
TZOFFSETTO:-0700
TZNAME:MST
DTSTART:20261101T080000
END:STANDARD
BEGIN:DAYLIGHT
TZOFFSETFROM:-0700
TZOFFSETTO:-0600
TZNAME:MDT
DTSTART:20270314T090000
END:DAYLIGHT
BEGIN:STANDARD
TZOFFSETFROM:-0600
TZOFFSETTO:-0700
TZNAME:MST
DTSTART:20271107T080000
END:STANDARD
END:VTIMEZONE
BEGIN:VEVENT
DTSTART;VALUE=DATE:20260502
DTEND;VALUE=DATE:20260503
DTSTAMP:20260422T174618
CREATED:20260129T215927Z
LAST-MODIFIED:20260129T215927Z
UID:10209-1777680000-1777766399@borderrac.org
SUMMARY:BorderRAC Topgolf Fundraiser
DESCRIPTION:Screenshot
URL:https://borderrac.org/event/borderrac-topgolf-fundraiser/
LOCATION:Topgolf\, 365 Vin Rambla Dr\, El Paso\, TX\, 79912
CATEGORIES:Fundraiser
ORGANIZER;CN="BorderRAC":MAILTO:contactus@borderrac.org
END:VEVENT
BEGIN:VEVENT
DTSTART;TZID=America/Denver:20260512T140000
DTEND;TZID=America/Denver:20260512T150000
DTSTAMP:20260422T174618
CREATED:20260401T215403Z
LAST-MODIFIED:20260401T215403Z
UID:10331-1778594400-1778598000@borderrac.org
SUMMARY:BorderRAC Whole Blood Consortium
DESCRIPTION:
URL:https://borderrac.org/event/borderrac-whole-blood-consortium-2/
ORGANIZER;CN="BorderRAC":MAILTO:contactus@borderrac.org
END:VEVENT
BEGIN:VEVENT
DTSTART;TZID=America/Denver:20260513T120000
DTEND;TZID=America/Denver:20260513T130000
DTSTAMP:20260422T174618
CREATED:20260115T151454Z
LAST-MODIFIED:20260119T020620Z
UID:10032-1778673600-1778677200@borderrac.org
SUMMARY:Prevention Committee Meeting
DESCRIPTION:
URL:https://borderrac.org/event/prevention-committee-meeting-2/
CATEGORIES:Meeting
ORGANIZER;CN="BorderRAC":MAILTO:contactus@borderrac.org
END:VEVENT
BEGIN:VEVENT
DTSTART;TZID=America/Denver:20260514T130000
DTEND;TZID=America/Denver:20260514T141500
DTSTAMP:20260422T174618
CREATED:20260129T211141Z
LAST-MODIFIED:20260129T211141Z
UID:10135-1778763600-1778768100@borderrac.org
SUMMARY:Trauma Committee Meeting
DESCRIPTION:
URL:https://borderrac.org/event/trauma-committee-meeting-2/
CATEGORIES:Meeting
ORGANIZER;CN="BorderRAC":MAILTO:contactus@borderrac.org
END:VEVENT
BEGIN:VEVENT
DTSTART;TZID=America/Denver:20260514T134500
DTEND;TZID=America/Denver:20260514T150000
DTSTAMP:20260422T174618
CREATED:20260115T160559Z
LAST-MODIFIED:20260203T011237Z
UID:10082-1778766300-1778770800@borderrac.org
SUMMARY:EMS Committee Meeting
DESCRIPTION:
URL:https://borderrac.org/event/stroke-committee-meeting-2/
CATEGORIES:Meeting
ORGANIZER;CN="BorderRAC":MAILTO:contactus@borderrac.org
END:VEVENT
BEGIN:VEVENT
DTSTART;TZID=America/Denver:20260515T140000
DTEND;TZID=America/Denver:20260515T153000
DTSTAMP:20260422T174618
CREATED:20260129T211702Z
LAST-MODIFIED:20260129T211702Z
UID:10145-1778853600-1778859000@borderrac.org
SUMMARY:Perinatal Committee Meeting
DESCRIPTION:Maternal and Neonate
URL:https://borderrac.org/event/perinatal-committee-meeting-2/
CATEGORIES:Meeting
ORGANIZER;CN="BorderRAC":MAILTO:contactus@borderrac.org
END:VEVENT
BEGIN:VEVENT
DTSTART;TZID=America/Denver:20260518T104500
DTEND;TZID=America/Denver:20260518T120000
DTSTAMP:20260422T174618
CREATED:20260129T212250Z
LAST-MODIFIED:20260129T212250Z
UID:10157-1779101100-1779105600@borderrac.org
SUMMARY:System Performance Improvement/PAG
DESCRIPTION:
URL:https://borderrac.org/event/system-performance-improvement-pag-4/
CATEGORIES:Meeting
ORGANIZER;CN="BorderRAC":MAILTO:contactus@borderrac.org
END:VEVENT
BEGIN:VEVENT
DTSTART;TZID=America/Denver:20260518T120000
DTEND;TZID=America/Denver:20260518T133000
DTSTAMP:20260422T174618
CREATED:20260129T213529Z
LAST-MODIFIED:20260129T213529Z
UID:10177-1779105600-1779111000@borderrac.org
SUMMARY:Board Meeting
DESCRIPTION:
URL:https://borderrac.org/event/board-meeting-4/
CATEGORIES:Meeting
ORGANIZER;CN="BorderRAC":MAILTO:contactus@borderrac.org
END:VEVENT
BEGIN:VEVENT
DTSTART;TZID=America/Denver:20260522T093000
DTEND;TZID=America/Denver:20260522T103000
DTSTAMP:20260422T174618
CREATED:20260401T205217Z
LAST-MODIFIED:20260401T205217Z
UID:10323-1779442200-1779445800@borderrac.org
SUMMARY:ED OPS Taskforce
DESCRIPTION:
URL:https://borderrac.org/event/ed-ops-taskforce/
ORGANIZER;CN="BorderRAC":MAILTO:contactus@borderrac.org
END:VEVENT
BEGIN:VEVENT
DTSTART;TZID=America/Denver:20260529T103000
DTEND;TZID=America/Denver:20260529T120000
DTSTAMP:20260422T174618
CREATED:20260119T020957Z
LAST-MODIFIED:20260129T210135Z
UID:10093-1780050600-1780056000@borderrac.org
SUMMARY:EPR Committee Meeting
DESCRIPTION:
URL:https://borderrac.org/event/epr-committee-meeting-2/
CATEGORIES:Meeting
ORGANIZER;CN="BorderRAC":MAILTO:contactus@borderrac.org
END:VEVENT
END:VCALENDAR