BEGIN:VCALENDAR
VERSION:2.0
PRODID:-// - ECPv6.15.20//NONSGML v1.0//EN
CALSCALE:GREGORIAN
METHOD:PUBLISH
X-ORIGINAL-URL:https://borderrac.org
X-WR-CALDESC:Events for 
REFRESH-INTERVAL;VALUE=DURATION:PT1H
X-Robots-Tag:noindex
X-PUBLISHED-TTL:PT1H
BEGIN:VTIMEZONE
TZID:America/Denver
BEGIN:DAYLIGHT
TZOFFSETFROM:-0700
TZOFFSETTO:-0600
TZNAME:MDT
DTSTART:20250309T090000
END:DAYLIGHT
BEGIN:STANDARD
TZOFFSETFROM:-0600
TZOFFSETTO:-0700
TZNAME:MST
DTSTART:20251102T080000
END:STANDARD
BEGIN:DAYLIGHT
TZOFFSETFROM:-0700
TZOFFSETTO:-0600
TZNAME:MDT
DTSTART:20260308T090000
END:DAYLIGHT
BEGIN:STANDARD
TZOFFSETFROM:-0600
TZOFFSETTO:-0700
TZNAME:MST
DTSTART:20261101T080000
END:STANDARD
BEGIN:DAYLIGHT
TZOFFSETFROM:-0700
TZOFFSETTO:-0600
TZNAME:MDT
DTSTART:20270314T090000
END:DAYLIGHT
BEGIN:STANDARD
TZOFFSETFROM:-0600
TZOFFSETTO:-0700
TZNAME:MST
DTSTART:20271107T080000
END:STANDARD
END:VTIMEZONE
BEGIN:VEVENT
DTSTART;TZID=America/Denver:20260609T140000
DTEND;TZID=America/Denver:20260609T150000
DTSTAMP:20260422T192752
CREATED:20260401T215456Z
LAST-MODIFIED:20260401T215456Z
UID:10333-1781013600-1781017200@borderrac.org
SUMMARY:BorderRAC Whole Blood Consortium
DESCRIPTION:
URL:https://borderrac.org/event/borderrac-whole-blood-consortium-3/
ORGANIZER;CN="BorderRAC":MAILTO:contactus@borderrac.org
END:VEVENT
BEGIN:VEVENT
DTSTART;TZID=America/Denver:20260610T130000
DTEND;TZID=America/Denver:20260610T140000
DTSTAMP:20260422T192752
CREATED:20260115T152007Z
LAST-MODIFIED:20260203T011744Z
UID:10042-1781096400-1781100000@borderrac.org
SUMMARY:Pediatric Committee Meeting
DESCRIPTION:
URL:https://borderrac.org/event/pediatric-committee-meeting-3/
CATEGORIES:Meeting
ORGANIZER;CN="BorderRAC":MAILTO:contactus@borderrac.org
END:VEVENT
BEGIN:VEVENT
DTSTART;TZID=America/Denver:20260610T140000
DTEND;TZID=America/Denver:20260610T150000
DTSTAMP:20260422T192752
CREATED:20260115T155223Z
LAST-MODIFIED:20260203T011936Z
UID:10072-1781100000-1781103600@borderrac.org
SUMMARY:Cardiac Committee Meeting
DESCRIPTION:
URL:https://borderrac.org/event/cardiac-committee-education-2/
CATEGORIES:Education
ORGANIZER;CN="BorderRAC":MAILTO:contactus@borderrac.org
END:VEVENT
BEGIN:VEVENT
DTSTART;TZID=America/Denver:20260610T150000
DTEND;TZID=America/Denver:20260610T160000
DTSTAMP:20260422T192752
CREATED:20260115T160708Z
LAST-MODIFIED:20260203T011848Z
UID:10084-1781103600-1781107200@borderrac.org
SUMMARY:Stroke Committee Meeting
DESCRIPTION:
URL:https://borderrac.org/event/stroke-committee-education-2/
CATEGORIES:Education
ORGANIZER;CN="BorderRAC":MAILTO:contactus@borderrac.org
END:VEVENT
BEGIN:VEVENT
DTSTART;TZID=America/Denver:20260615T104500
DTEND;TZID=America/Denver:20260615T120000
DTSTAMP:20260422T192752
CREATED:20260129T212340Z
LAST-MODIFIED:20260129T212340Z
UID:10159-1781520300-1781524800@borderrac.org
SUMMARY:System Performance Improvement/PAG
DESCRIPTION:
URL:https://borderrac.org/event/system-performance-improvement-pag-5/
CATEGORIES:Meeting
ORGANIZER;CN="BorderRAC":MAILTO:contactus@borderrac.org
END:VEVENT
BEGIN:VEVENT
DTSTART;TZID=America/Denver:20260615T120000
DTEND;TZID=America/Denver:20260615T133000
DTSTAMP:20260422T192752
CREATED:20260129T213602Z
LAST-MODIFIED:20260129T213602Z
UID:10179-1781524800-1781530200@borderrac.org
SUMMARY:Board Meeting
DESCRIPTION:
URL:https://borderrac.org/event/board-meeting-5/
CATEGORIES:Meeting
ORGANIZER;CN="BorderRAC":MAILTO:contactus@borderrac.org
END:VEVENT
END:VCALENDAR